BEGIN:VCALENDAR
VERSION:2.0
PRODID:-//Consultive Strategy Group - ECPv6.15.20//NONSGML v1.0//EN
CALSCALE:GREGORIAN
METHOD:PUBLISH
X-WR-CALNAME:Consultive Strategy Group
X-ORIGINAL-URL:https://consultivestrategygroup.com
X-WR-CALDESC:Events for Consultive Strategy Group
REFRESH-INTERVAL;VALUE=DURATION:PT1H
X-Robots-Tag:noindex
X-PUBLISHED-TTL:PT1H
BEGIN:VTIMEZONE
TZID:UTC
BEGIN:STANDARD
TZOFFSETFROM:+0000
TZOFFSETTO:+0000
TZNAME:UTC
DTSTART:20240101T000000
END:STANDARD
END:VTIMEZONE
BEGIN:VEVENT
DTSTART;TZID=UTC:20250321T140000
DTEND;TZID=UTC:20250323T200000
DTSTAMP:20260419T184809
CREATED:20250221T221729Z
LAST-MODIFIED:20250221T221729Z
UID:5191-1742565600-1742760000@consultivestrategygroup.com
SUMMARY:National Theater Partnership
DESCRIPTION:
URL:https://consultivestrategygroup.com/event/national-theater-partnership-10/
ORGANIZER;CN="Consultive Strategy Group":MAILTO:hr@consultivestrategygroup.com
END:VEVENT
END:VCALENDAR