BEGIN:VCALENDAR
VERSION:2.0
PRODID:-//Consultive Strategy Group - ECPv6.15.20//NONSGML v1.0//EN
CALSCALE:GREGORIAN
METHOD:PUBLISH
X-WR-CALNAME:Consultive Strategy Group
X-ORIGINAL-URL:https://consultivestrategygroup.com
X-WR-CALDESC:Events for Consultive Strategy Group
REFRESH-INTERVAL;VALUE=DURATION:PT1H
X-Robots-Tag:noindex
X-PUBLISHED-TTL:PT1H
BEGIN:VTIMEZONE
TZID:UTC
BEGIN:STANDARD
TZOFFSETFROM:+0000
TZOFFSETTO:+0000
TZNAME:UTC
DTSTART:20240101T000000
END:STANDARD
END:VTIMEZONE
BEGIN:VEVENT
DTSTART;TZID=UTC:20250301T100000
DTEND;TZID=UTC:20250301T170000
DTSTAMP:20260419T220414
CREATED:20250221T220651Z
LAST-MODIFIED:20250221T220801Z
UID:5176-1740823200-1740848400@consultivestrategygroup.com
SUMMARY:Boston Outdoor Expo
DESCRIPTION:
URL:https://consultivestrategygroup.com/event/boston-outdoor-expo/
ORGANIZER;CN="Consultive Strategy Group":MAILTO:hr@consultivestrategygroup.com
END:VEVENT
BEGIN:VEVENT
DTSTART;VALUE=DATE:20250222
DTEND;VALUE=DATE:20250224
DTSTAMP:20260419T220414
CREATED:20250201T033226Z
LAST-MODIFIED:20250201T033226Z
UID:5079-1740182400-1740355199@consultivestrategygroup.com
SUMMARY:Food Co-Op Project
DESCRIPTION:
URL:https://consultivestrategygroup.com/event/food-co-op-project-4/
END:VEVENT
BEGIN:VEVENT
DTSTART;TZID=UTC:20250220T140000
DTEND;TZID=UTC:20250223T200000
DTSTAMP:20260419T220414
CREATED:20250201T032839Z
LAST-MODIFIED:20250201T032839Z
UID:5071-1740060000-1740340800@consultivestrategygroup.com
SUMMARY:National Theater Partnership
DESCRIPTION:
URL:https://consultivestrategygroup.com/event/national-theater-partnership-3/
END:VEVENT
BEGIN:VEVENT
DTSTART;VALUE=DATE:20250215
DTEND;VALUE=DATE:20250217
DTSTAMP:20260419T220414
CREATED:20250201T033203Z
LAST-MODIFIED:20250201T033203Z
UID:5077-1739577600-1739750399@consultivestrategygroup.com
SUMMARY:Food Co-Op Project
DESCRIPTION:
URL:https://consultivestrategygroup.com/event/food-co-op-project-3/
END:VEVENT
BEGIN:VEVENT
DTSTART;TZID=UTC:20250213T140000
DTEND;TZID=UTC:20250216T200000
DTSTAMP:20260419T220414
CREATED:20250201T032625Z
LAST-MODIFIED:20250201T032625Z
UID:5069-1739455200-1739736000@consultivestrategygroup.com
SUMMARY:National Theater Partnership
DESCRIPTION:
URL:https://consultivestrategygroup.com/event/national-theater-partnership-2/
END:VEVENT
BEGIN:VEVENT
DTSTART;TZID=UTC:20250208T110000
DTEND;TZID=UTC:20250208T170000
DTSTAMP:20260419T220414
CREATED:20250201T040501Z
LAST-MODIFIED:20250201T040540Z
UID:5086-1739012400-1739034000@consultivestrategygroup.com
SUMMARY:Revere Beach Winter Wonderland
DESCRIPTION:
URL:https://consultivestrategygroup.com/event/revere-beach-winter-wonderland/
END:VEVENT
BEGIN:VEVENT
DTSTART;VALUE=DATE:20250208
DTEND;VALUE=DATE:20250210
DTSTAMP:20260419T220414
CREATED:20250201T033021Z
LAST-MODIFIED:20250201T033021Z
UID:5075-1738972800-1739145599@consultivestrategygroup.com
SUMMARY:Food Co-Op Project
DESCRIPTION:
URL:https://consultivestrategygroup.com/event/food-co-op-project-2/
END:VEVENT
BEGIN:VEVENT
DTSTART;TZID=UTC:20250206T140000
DTEND;TZID=UTC:20250209T200000
DTSTAMP:20260419T220414
CREATED:20250129T181302Z
LAST-MODIFIED:20250129T181302Z
UID:5030-1738850400-1739131200@consultivestrategygroup.com
SUMMARY:National Theater Partnership
DESCRIPTION:
URL:https://consultivestrategygroup.com/event/national-theater-partnership/
END:VEVENT
BEGIN:VEVENT
DTSTART;VALUE=DATE:20250201
DTEND;VALUE=DATE:20250203
DTSTAMP:20260419T220414
CREATED:20250201T032409Z
LAST-MODIFIED:20250201T032409Z
UID:5067-1738368000-1738540799@consultivestrategygroup.com
SUMMARY:Food Co-Op Project
DESCRIPTION:
URL:https://consultivestrategygroup.com/event/food-co-op-project/
END:VEVENT
END:VCALENDAR